BEGIN:VCALENDAR
VERSION:2.0
PRODID:-//BARBAGIUANS MONACO - ECPv6.15.18//NONSGML v1.0//EN
CALSCALE:GREGORIAN
METHOD:PUBLISH
X-WR-CALNAME:BARBAGIUANS MONACO
X-ORIGINAL-URL:https://barbagiuansmonaco.mc
X-WR-CALDESC:Évènements pour BARBAGIUANS MONACO
REFRESH-INTERVAL;VALUE=DURATION:PT1H
X-Robots-Tag:noindex
X-PUBLISHED-TTL:PT1H
BEGIN:VTIMEZONE
TZID:UTC
BEGIN:STANDARD
TZOFFSETFROM:+0000
TZOFFSETTO:+0000
TZNAME:UTC
DTSTART:20240101T000000
END:STANDARD
END:VTIMEZONE
BEGIN:VEVENT
DTSTART;TZID=UTC:20250521T150000
DTEND;TZID=UTC:20250521T170000
DTSTAMP:20260423T095544
CREATED:20250416T153935Z
LAST-MODIFIED:20250604T084349Z
UID:28471-1747839600-1747846800@barbagiuansmonaco.mc
SUMMARY:RACING STARS FOOTBALL CUP – ÉDITION 2025
DESCRIPTION:RACING STARS FOOTBALL CUP – ÉDITION 2025 \nPendant plus de 35 ans\, le légendaire “Match des Pilotes”\, organisé par la Star Team MC\, a réuni sur la pelouse du Stade Louis-II les plus grands noms du sport automobile international. Véritable tradition monégasque\, cet événement caritatif emblématique a notamment accueilli Michael Schumacher\, figure mythique de la Formule 1\, à plusieurs reprises. \nEn 2025\, l’histoire continue… sous un nouveau nom. \nLes Barbagiuans Monaco\, association fondée par SAS le Prince Albert II et présidée depuis 5 ans avec passion par son neveu Louis Ducruet\, reprennent le flambeau et lancent le Racing Stars Football Cup\, avec l’ambition d’en faire un rendez-vous international caritatif incontournable. \nLe concept :Un match exceptionnel opposant : \n• Les Barbagiuans Monaco\, avec leurs légendes du football professionnel telles que Javier Chevanton\, Ludovic Giuly\, Flavio Roma\, Gaël Givet\, Sébastien Squillaci et Sébastien Frey\, accompagnés pour l’occasion de stars de la musique\, de l’humour\, du cinéma\, du sport de combat\, des réseaux sociaux et du freestyle\, \n• à l’équipe des pilotes\, composée de champions de F1\, F2\, F3 et de figures emblématiques du sport automobile. \nObjectif : récolter des fonds pour soutenir deux associations profondément engagées : \n• L’Association Jules Bianchi\, créée suite au tragique accident du pilote lors du Grand Prix du Japon 2014.Après plusieurs mois passés à l’USCL (Unité de Soins pour les patients Cérébraux-lésés Lourds) de l’hôpital de l’Archet à Nice\, la famille de Jules a mesuré l’importance des soins apportés dans ces unités spécialisées. \nDepuis son décès en 2015\, l’Association agit pour soutenir l’USCL\, les patients et leurs familles\, en finançant du matériel médical innovant pour améliorer la rééducation et le confort des soins (simulateurs de conduite\, lits-douches\, systèmes de thérapie miroir\, douche hydro-moléculaire…). \nL’Association perpétue la mémoire de Jules à travers chaque action. \n• Be Safe Monaco\, fondée par Camille Gottlieb\, lutte contre l’alcool au volant et sensibilise les jeunes à une conduite responsable. \nÀ travers ses campagnes de prévention\, ses actions sur le terrain et la mise en place de solutions concrètes (comme le développement de navettes de nuit)\, l’association agit pour sauver des vies et encourager une culture du retour en toute sécurité. \nPlusieurs personnalités sont attendues dans l’équipe des Barbagiuans pour jouer aux côtés des anciens footballeurs professionnels. \nUn match caritatif\, un show unique\, une ambiance festive et engagée.Le Racing Stars Football Cup s’inscrit dans la lignée des grandes traditions sportives monégasques… avec une touche de modernité\, d’influence et de cœur. \n\n \n\n\nRÉSERVER EN LIGNE
URL:https://barbagiuansmonaco.mc/event/racing-stars-football-cup/
LOCATION:Stade Louis II\, 7 Av. des Castelans\, MONACO\, 98000\, Monaco
CATEGORIES:Match
ATTACH;FMTTYPE=image/jpeg:https://barbagiuansmonaco.mc/wp-content/uploads/2025/04/Affiche-Racing-Stars-Football-Cup.pdf_page-0001.jpg
END:VEVENT
END:VCALENDAR